BEGIN:VCALENDAR
VERSION:2.0
PRODID:-//97.5 FM KDEE - ECPv6.15.20//NONSGML v1.0//EN
CALSCALE:GREGORIAN
METHOD:PUBLISH
X-WR-CALNAME:97.5 FM KDEE
X-ORIGINAL-URL:https://kdeefm.org
X-WR-CALDESC:Events for 97.5 FM KDEE
REFRESH-INTERVAL;VALUE=DURATION:PT1H
X-Robots-Tag:noindex
X-PUBLISHED-TTL:PT1H
BEGIN:VTIMEZONE
TZID:America/Los_Angeles
BEGIN:DAYLIGHT
TZOFFSETFROM:-0800
TZOFFSETTO:-0700
TZNAME:PDT
DTSTART:20250309T100000
END:DAYLIGHT
BEGIN:STANDARD
TZOFFSETFROM:-0700
TZOFFSETTO:-0800
TZNAME:PST
DTSTART:20251102T090000
END:STANDARD
BEGIN:DAYLIGHT
TZOFFSETFROM:-0800
TZOFFSETTO:-0700
TZNAME:PDT
DTSTART:20260308T100000
END:DAYLIGHT
BEGIN:STANDARD
TZOFFSETFROM:-0700
TZOFFSETTO:-0800
TZNAME:PST
DTSTART:20261101T090000
END:STANDARD
BEGIN:DAYLIGHT
TZOFFSETFROM:-0800
TZOFFSETTO:-0700
TZNAME:PDT
DTSTART:20270314T100000
END:DAYLIGHT
BEGIN:STANDARD
TZOFFSETFROM:-0700
TZOFFSETTO:-0800
TZNAME:PST
DTSTART:20271107T090000
END:STANDARD
END:VTIMEZONE
BEGIN:VEVENT
DTSTART;TZID=America/Los_Angeles:20260425T083000
DTEND;TZID=America/Los_Angeles:20260425T123000
DTSTAMP:20260422T074735
CREATED:20260410T003155Z
LAST-MODIFIED:20260410T003155Z
UID:12351-1777105800-1777120200@kdeefm.org
SUMMARY:PanCAN PurpleStride Sacramento 2026
DESCRIPTION:PanCAN PurpleStride is the ultimate walk to end pancreatic cancer. PanCAN PurpleStride is an inspirational day to celebrate survivors\, honor those we lost and turn the nation purple! Join more than 60\,000 people nationwide to support and honor everyone affected by the disease. It’s a family-friendly day filled with fun\, hope and the power of community. \nJoin us by registering for free today! Every dollar raised will help create a world where everyone affected by pancreatic cancer will thrive. \nPancreatic Cancer Action Network (PanCAN) is the leading organization dedicated to advancing progress against pancreatic cancer for patients today and in the future.\nWe unite the pancreatic cancer community and push every boundary to create a world where survival is the norm – not the exception. \nWe are the only national pancreatic cancer organization to fight the disease on all fronts – through patient support\, research\, advocacy and community building.
URL:https://kdeefm.org/event/pancan-purplestride-sacramento-2026/
ATTACH;FMTTYPE=image/png:https://kdeefm.org/wp-content/uploads/2026/03/ps26_join-us_socialassets_f_public3-scaled.png
END:VEVENT
BEGIN:VEVENT
DTSTART;TZID=America/Los_Angeles:20260425T120000
DTEND;TZID=America/Los_Angeles:20260425T170000
DTSTAMP:20260422T074735
CREATED:20260410T003418Z
LAST-MODIFIED:20260410T003418Z
UID:12476-1777118400-1777136400@kdeefm.org
SUMMARY:Wheels of God Car & Motorcycle Show
DESCRIPTION:2nd Annual Car & Motorcycle Show with 4 awards for the cars and 4 for the motorcycles.\nFood\, Fun\, Family\, and Fellowship\, and Music. Connecting with the community through the love of motorcycles\, cars\, and Christ. It’s a family event. Lives music performance by Murcy 34. Vendors on site. Car & Bike blessings.
URL:https://kdeefm.org/event/wheels-of-god-car-motorcycle-show/
LOCATION:New Season Church\, 6555 44th Street\, Sacramento\, 95823
ATTACH;FMTTYPE=image/png:https://kdeefm.org/wp-content/uploads/2026/04/flyer_with_qr_smaller.png
ORGANIZER;CN="Wheels of God Ministry":MAILTO:wheelsofgodministry@gmail.com
END:VEVENT
BEGIN:VEVENT
DTSTART;TZID=America/Los_Angeles:20260430T180000
DTEND;TZID=America/Los_Angeles:20260430T190000
DTSTAMP:20260422T074735
CREATED:20260417T192934Z
LAST-MODIFIED:20260417T192934Z
UID:12588-1777572000-1777575600@kdeefm.org
SUMMARY:Underground Books Author Talk with Adrian Miller
DESCRIPTION:Join award-winning author and culinary historian Adrian Miller for an evening exploring African American culinary history and culture. \nMiller is the author of: \n– Soul Food: The Surprising Story of an American Cuisine\, One Plate at a Time\n– The President’s Kitchen Cabinet: The Story of the African Americans Who Have Fed Our First Families\, from the Washingtons to the Obamas\n– Black Smoke: African Americans and the United States of Barbecue\n– Cooking to the President’s Taste \nDuring this event\, Miller will share insights on the origins and evolution of soul food\, the cultural significance behind it\, and the stories of African Americans who have shaped American cuisine—from home kitchens to the White House.
URL:https://kdeefm.org/event/underground-books-author-talk-with-adrian-miller/
LOCATION:Underground Books\, 2814 35th Street\, Sacramento\, C\, 95817\, United States
ATTACH;FMTTYPE=image/jpeg:https://kdeefm.org/wp-content/uploads/2026/04/Adrian-Miller-1.jpg
ORGANIZER;CN="st. hope academy":MAILTO:brandy@sthope.org
END:VEVENT
BEGIN:VEVENT
DTSTART;TZID=America/Los_Angeles:20260430T183000
DTEND;TZID=America/Los_Angeles:20260430T213000
DTSTAMP:20260422T074735
CREATED:20260421T021827Z
LAST-MODIFIED:20260421T021827Z
UID:12714-1777573800-1777584600@kdeefm.org
SUMMARY:International Day of Jazz with Grammy Award-Winner Jamie Davis
DESCRIPTION:GRAMMY AWARD-WINNING ARTIST JAMIE DAVIS CELEBRATES\nINTERNATIONAL DAY OF JAZZ IN SACRAMENTO ON APRIL 30\, 2026\nUNESCO supports his jazz concert at the Historic Guild Theatre in Oak Park. \n(Sacramento\, CA) – 2026 – The United Nations Educational\, Scientific and Cultural Organization (UNESCO) will celebrate the 15th annual International Jazz Day in all 50 states and over 190 countries around the globe on Thursday\, April 30\, 2026. In honor of Jazz Day\, Sacramento Grammy Award-Winning artist\, Jamie Davis\, is performing in historic Oak Park at the Guild Theater at 6:30pm. Tickets are available at www.jamiedavis.com.\nJamie Davis\, a Sacramento resident\, is a classical jazz empresario with a distinguished international career. Davis won a 2023 Grammy Award for his work on “Basie Sings the Blues.” He’s known for his distinctive bass-baritone voice\, versatility\, and unwavering commitment to elevating jazz music as an art form. Davis rose to prominence as the lead vocalist for the legendary Count Basie Orchestra.\nDavis will be joined on stage by Sacramento’s own jazz vocalist\, Vivian Lee\, and musicians Dr. Glen Pearson\, Leon Joyce\, Ron Belcher\, and Richard Howell. “The International Jazz of Day fosters dialogue and celebrates the power of jazz and how it unites and transcends boarders around the world. Jazz music brings people together\,” says Davis.\nFor more information\, interviews\, and to purchase tickets contact 858.699.4737.
URL:https://kdeefm.org/event/international-day-of-jazz-with-grammy-award-winner-jamie-davis/
LOCATION:Guild Theater\, 2828 35th St.\, Sacramento\, C\, 95819\, United States
ATTACH;FMTTYPE=image/jpeg:https://kdeefm.org/wp-content/uploads/2026/04/Jamie-Davis-1.jpg
ORGANIZER;CN="Communications Group":MAILTO:pcolston413@gmail.com
END:VEVENT
BEGIN:VEVENT
DTSTART;TZID=America/Los_Angeles:20260509T100000
DTEND;TZID=America/Los_Angeles:20260509T130000
DTSTAMP:20260422T074735
CREATED:20260421T021847Z
LAST-MODIFIED:20260421T021847Z
UID:12743-1778320800-1778331600@kdeefm.org
SUMMARY:PROTECT: SisterNomic$ Protect Your Legacy | Trusts & Wills - Estate Planning
DESCRIPTION:Sisters — this one is for everyone who has worked hard and wants to make sure it lasts. \nThe National Coalition of 100 Black Women\, Inc. Sacramento Chapter presents Sister-Nomic$: Protect — Protect Your Legacy. Session 2 of 4 in our 2026 Economic Empowerment Series. \nEstate Planning Attorney DeLonda K. Coleman\, Esq. will guide us through trusts\, wills\, and the legal tools every Black woman and family needs to protect what they’ve built. \nSaturday\, May 9\, 2026 · 9:00AM – 1:00PM Tap Wine Lounge · 1011 Del Paso Blvd · Sacramento \nWe’re welcoming you with a full morning continental grazing table — muffins\, danishes\, granola\, fruit\, pressed juice\, coffee and tea. Midday\, enjoy a curated sandwich lunch box with fruit\, chips\, and a sweet treat. Vegan options available for both. \nComplimentary. Open to the community. Seating is limited — dietary restrictions accommodated upon registration. \nCan’t make this one? The series continues —\n📌 Session 3: Own Your Space — May 30 · New York Life\, Elk Grove\n📌 Session 4: Master Your Money — June 20 · Oak Park \nReserve your seat here: https://www.eventbrite.com/cc/ncbw-sacramento-events-4390843 \nBuild. Own. Protect. Sustain.
URL:https://kdeefm.org/event/protect-sisternomic-protect-your-legacy-trusts-wills-estate-planning/
LOCATION:TAP Wine Lounge\, 1011 Del Paso Blvd\, Sacramento\, 95815
ATTACH;FMTTYPE=image/png:https://kdeefm.org/wp-content/uploads/2026/04/SisterNomics_Presented-By-SacNCBW_Template-1-1-scaled.png
ORGANIZER;CN="The National Coalition of 100 Black Women%2C Inc - Sacramento Chapter":MAILTO:keisha.m.mathews@gmail.com
END:VEVENT
BEGIN:VEVENT
DTSTART;TZID=America/Los_Angeles:20260510T110000
DTEND;TZID=America/Los_Angeles:20260510T170000
DTSTAMP:20260422T074735
CREATED:20260417T192914Z
LAST-MODIFIED:20260417T192914Z
UID:12618-1778410800-1778432400@kdeefm.org
SUMMARY:Blessings Caterings Mother's Day Luncheon
DESCRIPTION:Celebrate Mother’s Day with Us! \n​We are thrilled to announce our first formal Mother’s Day event\, hosted in partnership with Bluecue. We can’t wait to celebrate with all the incredible mothers in our community and create a truly unforgettable experience. \n​Enter Our Special Day-of Raffle!\n​Want to win something extra special? Follow these steps to enter:\n​- Share this post to your feed or story.\n​- Tag 5 friends in the comments.\n– ​Purchase your ticket to the event. \n​Get your tickets now and let’s make this Mother’s Day one for the books!
URL:https://kdeefm.org/event/blessings-caterings-mothers-day-luncheon/
LOCATION:Bluecue\, 1004 28th Street\, Sacramento\, 95816
ATTACH;FMTTYPE=image/jpeg:https://kdeefm.org/wp-content/uploads/2026/04/21640-1.jpg
ORGANIZER;CN="Blessings Catering":MAILTO:Info@blessingscatering.com
END:VEVENT
BEGIN:VEVENT
DTSTART;TZID=America/Los_Angeles:20260515T100000
DTEND;TZID=America/Los_Angeles:20260515T140000
DTSTAMP:20260422T074735
CREATED:20260410T003514Z
LAST-MODIFIED:20260410T003514Z
UID:12465-1778839200-1778853600@kdeefm.org
SUMMARY:Sacramento Walkathon Supporting Veteran Services
DESCRIPTION:At Nation’s Finest\, we go the distance — bringing supportive services such as housing\, mental health care\, and more to Veterans and their families. Now we’re asking our community to join us in going the extra mile for those who served at the 2nd Annual Sacramento Walkathon on May 15th. Every dollar raised directly benefits Nation’s Finest\, helping local Veterans and their families navigate the challenges of life after service.
URL:https://kdeefm.org/event/sacramento-walkathon-supporting-veteran-services/
LOCATION:rusch park\, 7801 Auburn Blvd\, Citrus Heights\, 95610
ATTACH;FMTTYPE=image/jpeg:https://kdeefm.org/wp-content/uploads/2026/04/Sacramento-Walkathon-2026.jpg
ORGANIZER;CN="Nation's Finest":MAILTO:welcome@nationsfinest.org
END:VEVENT
BEGIN:VEVENT
DTSTART;TZID=America/Los_Angeles:20260620T160000
DTEND;TZID=America/Los_Angeles:20260620T210000
DTSTAMP:20260422T074735
CREATED:20260410T003643Z
LAST-MODIFIED:20260410T003643Z
UID:12527-1781971200-1781989200@kdeefm.org
SUMMARY:St. HOPE Juneteenth Block Party at 40 Acres
DESCRIPTION:2026 Juneteenth Block Party at 40 Acres \nJoin us for a vibrant celebration of community\, culture\, and freedom at the historic 40 Acres Complex! This year’s Juneteenth Block Party brings together great energy\, music\, food\, and family-friendly experiences in the heart of Oak Park. \nLive DJ Sets – Enjoy an upbeat soundtrack throughout the day with live DJs spinning everything from classics to crowd favorites that keep the energy going. \nFood Trucks & Vendors – Savor delicious bites from a variety of local food vendors offering flavorful options for everyone. \nWine & Beer Garden – Relax and unwind in our Wine & Beer Garden\, featuring a selection of local favorites. \nFamily Fun at Esther’s Park – Kids and families can enjoy games\, activities\, and interactive fun in a dedicated space hosted by St. HOPE Public Schools. \nBlack-Owned Business Marketplace – Shop and support local businesses offering clothing\, accessories\, art\, and more. \nThis free\, in-person event is the perfect way to celebrate Juneteenth with your community. Come out\, connect\, and enjoy a day full of good vibes at 40 Acres!Location: 40 Acres Complex\, Oak Park\, Sacramento\nDate: June 20\, 2025\nTime: 4:00 PM – 9:00 \nLet’s honor the past\, celebrate the present\, and inspire the future. See you there! \nInterested in becoming a vendor? Apply Here: qrco.de/juneteenth26
URL:https://kdeefm.org/event/st-hope-juneteenth-block-party-at-40-acres-2/
LOCATION:Guild Theater\, 2828 35th St.\, Sacramento\, C\, 95819\, United States
ATTACH;FMTTYPE=image/jpeg:https://kdeefm.org/wp-content/uploads/2026/04/Junteenth26.jpg
ORGANIZER;CN="st. hope academy":MAILTO:brandy@sthope.org
END:VEVENT
BEGIN:VEVENT
DTSTART;TZID=America/Los_Angeles:20260628T120000
DTEND;TZID=America/Los_Angeles:20260628T180000
DTSTAMP:20260422T074735
CREATED:20260417T192852Z
LAST-MODIFIED:20260417T192852Z
UID:12610-1782648000-1782669600@kdeefm.org
SUMMARY:Caribbean Currents Festival
DESCRIPTION:On behalf of the Caribbean Basin Institute for Education and Culture (CBIEC)\, I am pleased to invite you to partner with us in celebrating culture\, community\, and connection through our upcoming Caribbean Currents Festival. \nEstablished in 2012\, CBIEC is a 501(c)(3) nonprofit organization dedicated to promoting cultural understanding and appreciation of the Caribbean Islands and their indigenous peoples. Through educational seminars\, public performances\, and people-to-people exchanges\, we strive to build bridges across cultures and create opportunities for learning\, engagement\, and shared experiences. \nThis vibrant event will bring together an estimated 100-300 attendees from across the Sacramento region\, including families\, youth\, students\, and community members of diverse backgrounds. The festival will feature: \nLive performances by three Caribbean musical artists\nCultural dance performances\, including Brazilian\, Haitian\, Trinidadian\, and Cuban traditions\nInteractive dance lessons encouraging community participation\nCaribbean food vendors and artisan marketplace\nCommunity resource tables hosted by local nonprofits and service organizations\nA dedicated children’s play area with engaging\, family-friendly activities \nBy combining music\, dance\, food\, arts\, and education in a welcoming public space\, the Caribbean Currents Festival fosters cross-cultural understanding\, supports local small businesses and artists\, and strengthens community connections.
URL:https://kdeefm.org/event/caribbean-currents-festival/
ATTACH;FMTTYPE=image/jpeg:https://kdeefm.org/wp-content/uploads/2026/04/Save-the-Date-Flyer-3.jpeg
ORGANIZER;CN="Caribbean Basin Institute for Education and Culture":MAILTO:cbiec.org@gmail.com
END:VEVENT
BEGIN:VEVENT
DTSTART;TZID=America/Los_Angeles:20260905T140000
DTEND;TZID=America/Los_Angeles:20260905T170000
DTSTAMP:20260422T074735
CREATED:20260417T192830Z
LAST-MODIFIED:20260417T192830Z
UID:12511-1788616800-1788627600@kdeefm.org
SUMMARY:"The Motown Get-Down" Tour 2026
DESCRIPTION:Get Ready for “The Motown Get-Down”!\nJoin us in person for an unforgettable night celebrating the Queens of Soul\, Samantha Alexes as “Aretha Franklin”\, and Tracy Carter as “Diana Ross”. Feel the Soul\, sing along to all your Motown favorites\, and let the legends’ spirit fill the room. It’s a tribute that’ll have you dancing and reminiscing all night long. Don’t miss out on this epic musical journey! Also Featuring Northern California’s #1 Comedian “Ricco Da Great”. Also Local Legend “Tommy Hilliard” Facilitated by: Swiss TheBigCheez. Sits are Limiyed. RSVP NOW! ( 832-758-6898 ) VIP Seating Available. Call Now 832-758-6898.
URL:https://kdeefm.org/event/the-motown-get-down-tour-2026/
LOCATION:1361 Fulton Dr \, Sacramento Ca 95825\, 1361 Fulton Dr\, Sacramento\, 95825\, United Arab Emirates
ATTACH;FMTTYPE=image/jpeg:https://kdeefm.org/wp-content/uploads/2026/04/Red-Motown-Soul-Event-Instagram-Post-Made-with-PosterMyWall.jpg
END:VEVENT
END:VCALENDAR